BEGIN:VCALENDAR
VERSION:2.0
PRODID:-//urwahl3000//gruene-lorsch.de//DE
CALSCALE:GREGORIAN
BEGIN:VEVENT
DTSTART:20260218T190000
DTEND:20260218T210000
LOCATION:Marktplatz 1 64653 Lorsch
DTSTAMP:20260218T190000
SUMMARY:„Pizza & Politik“ – Politischer Aschermittwoch – Sei unser Gast !
URL;VALUE=URI:https://gruene-lorsch.de/termin/pizza-politik-politischer-aschermittwoch-sei-unser-gast/
DESCRIPTION:<div>Der Ortsverband von Bündnis`90/DIE GRÜNEN Lorsch und der Kreisverband von "Bündnis`90/DIE GRÜNEN-Bergstraße" laden alle interessierten Bürgerinnen und Bürger für den 18.02.2026 um 19:00h zum politischen Aschermittwoch in das "Rathaus-Cafe" im alten Rathaus Lorsch ein.</div>
<div>Unter dem Motto "Pizza & Politik" werden der hessische Landtagsabgeordnete und stellvertretende Fraktionsvorsitzende der GRÜNEN Jürgen Frömmrich und Matthias Schimpf, Lorscher Fraktionsvorsitzender und Spitzenkandidat der GRÜNEN Lorsch für die Kommunalwahl am 15.003.26 zu aktuellen Themen der Landes -Kreis -und Stadtpolitik Stellung beziehen und bei von den GRÜNEN spendierter Pizza den lockeren Austausch mit interessierten Bürgerinnen und Bürgern suchen, die zu der Veranstaltung herzlich eingeladen und willkommen sind.</div>
UID:20260218T190000-20260218T190000-20260218T210000
END:VEVENT
END:VCALENDAR